BEGIN:VCALENDAR
VERSION:2.0
PRODID:-//Drei Stufen e.V. - ECPv6.15.20//NONSGML v1.0//EN
CALSCALE:GREGORIAN
METHOD:PUBLISH
X-ORIGINAL-URL:https://drei-stufen.eu
X-WR-CALDESC:Veranstaltungen für Drei Stufen e.V.
REFRESH-INTERVAL;VALUE=DURATION:PT1H
X-Robots-Tag:noindex
X-PUBLISHED-TTL:PT1H
BEGIN:VTIMEZONE
TZID:Europe/Berlin
BEGIN:DAYLIGHT
TZOFFSETFROM:+0100
TZOFFSETTO:+0200
TZNAME:CEST
DTSTART:20220327T010000
END:DAYLIGHT
BEGIN:STANDARD
TZOFFSETFROM:+0200
TZOFFSETTO:+0100
TZNAME:CET
DTSTART:20221030T010000
END:STANDARD
BEGIN:DAYLIGHT
TZOFFSETFROM:+0100
TZOFFSETTO:+0200
TZNAME:CEST
DTSTART:20230326T010000
END:DAYLIGHT
BEGIN:STANDARD
TZOFFSETFROM:+0200
TZOFFSETTO:+0100
TZNAME:CET
DTSTART:20231029T010000
END:STANDARD
BEGIN:DAYLIGHT
TZOFFSETFROM:+0100
TZOFFSETTO:+0200
TZNAME:CEST
DTSTART:20240331T010000
END:DAYLIGHT
BEGIN:STANDARD
TZOFFSETFROM:+0200
TZOFFSETTO:+0100
TZNAME:CET
DTSTART:20241027T010000
END:STANDARD
END:VTIMEZONE
BEGIN:VEVENT
DTSTART;VALUE=DATE:20230731
DTEND;VALUE=DATE:20230814
DTSTAMP:20260422T075414
CREATED:20230403T125146Z
LAST-MODIFIED:20230403T125146Z
UID:160-1690761600-1691971199@drei-stufen.eu
SUMMARY:ASF-Sommerlager
DESCRIPTION:Projektbeschreibung der Aktion Sühnezeichen Friedensdienste (ASF): \nVišķi ist ein Ort bei Daugavpils in Südostlettland\, eine wunderbare Gegend mit drei Seen\, aber auch ein Shtetl (Dorf)\, wie tausend andere kleinere und größere Dörfer und Städte in Osteuropa\, wo eine blühende Landschaft jüdischen Lebens mit ihrem geistigen Zentrum war: der Synagoge. Heute sind in Višķi nur noch die drei sichtbaren Stufen auf einem Fundament als Reste der Synagoge\, unter Gras versteckt\, zu entdecken. Ein Ort ohne Synagoge – Wie geht es weiter? \nDas Sommerlager wird zum zweiten Mal von ASF und dem Verein „Drei Stufen e.V.“ (Osnabrück) in enger Zusammenarbeit organisiert. Die Arbeit\, die bereits 2022 angefangen wurde\, wird dieses Jahr nun fortgesetzt. \nEs sollen durch das Workcamp insbesondere junge Menschen aus verschiedenen Ländern für die jüdische Geschichte des Shtetls Višķi als Beispiel für die jüdische Geschichte Lettlands und Osteuropas interessiert und sensibilisiert werden\, um die Zukunft gemeinsam zu gestalten. Mit der praktischen Arbeit durch die Teilnehmer*innen am Ort der Synagoge zur Freilegung der Fundamentoberfläche\, zur Durchführung von Abmessungen unter der Anleitung von Vermessungstechniker*innen\, zu Garten- und Reinigungsarbeiten am Synagogenfundament  wird ein aktives Zeichen zur Verständigung und Sichtbarmachung des jüdischen Erbes in der kleinen Gemeinde geschaffen\, auf dessen Basis ein Denkmal entstehen wird. Die Arbeit in Višķi wird ergänzt durch eine thematische Annäherung an die Geschichte des multiethnischen und multikonfessionellen Ortes sowie an die Bezüge zur jüdischen Kultur in Lettland in Vergangenheit und Gegenwart.
URL:https://drei-stufen.eu/event/asf-sommerlager/
END:VEVENT
END:VCALENDAR