BEGIN:VCALENDAR
VERSION:2.0
PRODID:-//Drei Stufen e.V. - ECPv6.15.20//NONSGML v1.0//EN
CALSCALE:GREGORIAN
METHOD:PUBLISH
X-WR-CALNAME:Drei Stufen e.V.
X-ORIGINAL-URL:https://drei-stufen.eu
X-WR-CALDESC:Veranstaltungen für Drei Stufen e.V.
REFRESH-INTERVAL;VALUE=DURATION:PT1H
X-Robots-Tag:noindex
X-PUBLISHED-TTL:PT1H
BEGIN:VTIMEZONE
TZID:Europe/Berlin
BEGIN:DAYLIGHT
TZOFFSETFROM:+0100
TZOFFSETTO:+0200
TZNAME:CEST
DTSTART:20220327T010000
END:DAYLIGHT
BEGIN:STANDARD
TZOFFSETFROM:+0200
TZOFFSETTO:+0100
TZNAME:CET
DTSTART:20221030T010000
END:STANDARD
BEGIN:DAYLIGHT
TZOFFSETFROM:+0100
TZOFFSETTO:+0200
TZNAME:CEST
DTSTART:20230326T010000
END:DAYLIGHT
BEGIN:STANDARD
TZOFFSETFROM:+0200
TZOFFSETTO:+0100
TZNAME:CET
DTSTART:20231029T010000
END:STANDARD
BEGIN:DAYLIGHT
TZOFFSETFROM:+0100
TZOFFSETTO:+0200
TZNAME:CEST
DTSTART:20240331T010000
END:DAYLIGHT
BEGIN:STANDARD
TZOFFSETFROM:+0200
TZOFFSETTO:+0100
TZNAME:CET
DTSTART:20241027T010000
END:STANDARD
END:VTIMEZONE
BEGIN:VEVENT
DTSTART;TZID=Europe/Berlin:20230606T190000
DTEND;TZID=Europe/Berlin:20230606T203000
DTSTAMP:20260422T075202
CREATED:20230519T123210Z
LAST-MODIFIED:20230519T125934Z
UID:243-1686078000-1686083400@drei-stufen.eu
SUMMARY:"Mit der jüdischen Seele unterwegs" in Hasbergen
DESCRIPTION:Baruch Chauskin\, Gesang\, Osnabrück & Duo „NIHZ“ (Bobby Rootveld\, Gitarre / Sanna van Elst\, Blockflöte)\, Nordhorn  \nDie Dr. Buhmann Stiftung für interreligiöse Verständigung fördert das Projekt „Mit der jüdischen Seele unterwegs“ dankenswerterweise überaus freundlich. \n Das erste Wort\, das einem in den Sinn kommt\, wenn man Baruch Chauskin und das Duo NIHZ hört\, ist zweifelsohne Leidenschaft. \nDie Liebe zur jüdischen Kultur ist tief im Herzen und in der Seele dieser Drei. \nMit einer jüdischen Seele reisen sie von Konzert zu Konzert\, um dem Publikum mehr als nur die Musik zu bieten. \nDas Konzert dieses Trios ist keine Sammlung von Liedern\, sondern ein Eintauchen in die Liebe zur jüdischen Tradition und Kultur. \nLieder auf Hebräisch und Jiddisch wechseln sich mit Klezmer und klassischer jüdischer Musik ab. Auch Geschichten und Anekdoten beleben den Inhalt und die Themen. \nBei einem Konzert von Baruch Chauskin & Duo NIHZ genießt das Publikum nicht nur die Musik\, sondern ist auch tief beseelt. Die jüdische Seele Neshume ist eine alte Seele voller Leidenschaft\, Freude\, und Traurigkeit. Die jüdische Seele Rachmunes ist voller Melancholie und Sehnsucht nach Jerusalem. \nAll diese Emotionen kommen in einem schönen Schmelztiegel zusammen\, der für Jung und Alt zugänglich ist. \nBesondere Gäste:  \nDuo Mona mit „Kalyani“ Gule\, Gesang und Samuel T. Klemke\, Gitarre \nBegrüßung:   \nPastor Guido Schwegmann-Beisel sowie Adrian Schäfer\, Bürgermeister Hasbergen und 1. Vorsitzender des Vereins Drei Stufen e.V.\nModeration: Bobby Rootveld \n  \nEintritt frei\, Spenden erbeten\n\nMehr Information in unserer neuen Webseite: \nwww.drei-stufen.eu\n\nBitte Anmeldung per e-mail: \ndrei.stufen@gmail.com
URL:https://drei-stufen.eu/event/mit-der-juedischen-seele-unterwegs-in-hasbergen/
LOCATION:Gemeindezentrum der Christuskirche Hasbergen\, Martin-Luther-Straße 6\, Hasbergen\, 49205
ATTACH;FMTTYPE=image/jpeg:https://drei-stufen.eu/wp-content/uploads/2023/05/3stufen-060623new3-scaled.jpg
END:VEVENT
END:VCALENDAR