BEGIN:VCALENDAR
VERSION:2.0
PRODID:-//Drei Stufen e.V. - ECPv6.15.20//NONSGML v1.0//EN
CALSCALE:GREGORIAN
METHOD:PUBLISH
X-ORIGINAL-URL:https://drei-stufen.eu
X-WR-CALDESC:Veranstaltungen für Drei Stufen e.V.
REFRESH-INTERVAL;VALUE=DURATION:PT1H
X-Robots-Tag:noindex
X-PUBLISHED-TTL:PT1H
BEGIN:VTIMEZONE
TZID:Europe/Berlin
BEGIN:DAYLIGHT
TZOFFSETFROM:+0100
TZOFFSETTO:+0200
TZNAME:CEST
DTSTART:20240331T010000
END:DAYLIGHT
BEGIN:STANDARD
TZOFFSETFROM:+0200
TZOFFSETTO:+0100
TZNAME:CET
DTSTART:20241027T010000
END:STANDARD
BEGIN:DAYLIGHT
TZOFFSETFROM:+0100
TZOFFSETTO:+0200
TZNAME:CEST
DTSTART:20250330T010000
END:DAYLIGHT
BEGIN:STANDARD
TZOFFSETFROM:+0200
TZOFFSETTO:+0100
TZNAME:CET
DTSTART:20251026T010000
END:STANDARD
BEGIN:DAYLIGHT
TZOFFSETFROM:+0100
TZOFFSETTO:+0200
TZNAME:CEST
DTSTART:20260329T010000
END:DAYLIGHT
BEGIN:STANDARD
TZOFFSETFROM:+0200
TZOFFSETTO:+0100
TZNAME:CET
DTSTART:20261025T010000
END:STANDARD
END:VTIMEZONE
BEGIN:VEVENT
DTSTART;TZID=Europe/Berlin:20251110T180000
DTEND;TZID=Europe/Berlin:20251110T200000
DTSTAMP:20260426T045328
CREATED:20251021T134940Z
LAST-MODIFIED:20251021T140616Z
UID:336-1762797600-1762804800@drei-stufen.eu
SUMMARY:Gedenkkonzert - Eine musikalische Reise ins zerstörte Stetl Viški\, Lettland
DESCRIPTION:
URL:https://drei-stufen.eu/event/gedenkkonzert-eine-musikalische-reise-ins-zerstoerte-stetl-viski-lettland/
LOCATION:Rathaussaal Oesede\, Oeseder Straße 85
END:VEVENT
END:VCALENDAR